BEGIN:VCALENDAR
VERSION:2.0
PRODID:-//Tennessee World Affairs Council - ECPv6.13.1//NONSGML v1.0//EN
CALSCALE:GREGORIAN
METHOD:PUBLISH
X-WR-CALNAME:Tennessee World Affairs Council
X-ORIGINAL-URL:https://www.tnwac.org
X-WR-CALDESC:Events for Tennessee World Affairs Council
REFRESH-INTERVAL;VALUE=DURATION:PT1H
X-Robots-Tag:noindex
X-PUBLISHED-TTL:PT1H
BEGIN:VTIMEZONE
TZID:America/Chicago
BEGIN:DAYLIGHT
TZOFFSETFROM:-0600
TZOFFSETTO:-0500
TZNAME:CDT
DTSTART:20230312T080000
END:DAYLIGHT
BEGIN:STANDARD
TZOFFSETFROM:-0500
TZOFFSETTO:-0600
TZNAME:CST
DTSTART:20231105T070000
END:STANDARD
END:VTIMEZONE
BEGIN:VEVENT
DTSTART;TZID=America/Chicago:20230524T170000
DTEND;TZID=America/Chicago:20230524T180000
DTSTAMP:20260423T120547
CREATED:20230428T222441Z
LAST-MODIFIED:20250428T191835Z
UID:34778-1684947600-1684951200@www.tnwac.org
SUMMARY:Russia's Invasion of Ukraine | Ambassador John Kornblum | May 24
DESCRIPTION:Register Now \n \nThe Tennessee World Affairs Council\n\n\nSPECIAL GLOBAL DIALOGUE SERIES \nIN FOCUS: RUSSIA’S INVASION OF UKRAINE\nvia Zoom \n \nAmbassador John Kornblum\nFormer U.S. Ambassador to Germany and Assistant Secretary of State for European Affairs\nwith moderator \n \nPatrick W. Ryan\nPresident\, Tennessee World Affairs Council\nWednesday\, May 24\, 2023\n@ 12:00 p.m. CT\nRegister Now\n\n\nWar in Europe | Amb John Kornblum | Mar 16\n \n\nAmbassador John C. Kornblum has a long record of service in the United States and Europe both as a diplomat and as a businessman. He is recognized as an eminent expert on U.S.-European political and economic relations\, in particular in Central and Eastern Europe. He served as the U.S. Ambassador to Germany from 1997 to 2001. Before that\, he occupied a number of high-level diplomatic posts\, including U.S. Assistant Secretary of State for European affairs\, Special Envoy for the Dayton Peace Process\, U.S. Ambassador to the Organization for Security and Cooperation in Europe (Helsinki Process)\, Deputy U.S. Ambassador to NATO\, and U.S. minister and deputy commandant of forces in divided Berlin. From 2001 to 2009\, he was chairman of Lazard Freres Germany. He currently serves as senior counsellor to the international law firm Noerr LLP and as a senior adviser to the worldwide consultancy Accenture. Mr. Kornblum has also served on a number of supervisory and advisory boards including those of Thyssen-Krupp\, Technologies AG\, Bayer AG\, Russell Reynolds\, and Motorola Europe. He is a member of the boards of the American Chamber of Commerce in Germany\, the American Academy in Berlin\, the Deutsche Oper in Berlin\, and of numerous nonprofit organizations on both sides of the Atlantic. He received a B.A. from Michigan State University in 1964\, and he has been the recipient of many awards\, including a Knights Cross of the Order of Merit from Germany and an Order of Merit from Austria. \nPatrick Ryan \nPatrick Ryan is President and founder of the Tennessee World Affairs Council. In 2007 Ryan organized a group of concerned citizens to launch Tennessee’s first World Affairs Council\, to bring global awareness education programs and resources to communities and schools in the state. Ryan served 26 years in the United States Navy as an enlisted Submariner\, Surface Warfare officer and Intelligence Officer. Post-retirement he opened a newsletter publishing business focused on Middle East Affairs. Ryan also serves as President of the Tennessee Submarine Memorial Association. \nRegister Now \nPREVIOUSLY IN OUR “IN FOCUS” SERIES\nVideo\n \nTranscript\nPodcast\nTNWAC Podcasts are available wherever you get your Pods. Just look for “Global Tennessee” \n\n\nTHANKS TO TNWAC CORPORATE MEMBERS FOR SUPPORT TO EDUCATION OUTREACH PROGRAMS \n \nTHANKS TO OUR PARTNERS IN GLOBAL AFFAIRS AWARENESS AND EDUCATION OUTREACH \n \n \nA PROUD MEMBER OF THE WORLD AFFAIRS COUNCILS OF AMERICA SINCE 2007 \n \nTHANKS TO OUR PARTNERS IN GLOBAL AFFAIRS AWARENESS AND EDUCATION OUTREACH \n \nTHANKS TO OUR PARTNERS IN GLOBAL AFFAIRS AWARENESS AND EDUCATION OUTREACH \n \nTHANKS TO OUR PARTNERS IN GLOBAL AFFAIRS AWARENESS AND EDUCATION OUTREACH \n \nTHE MISSION of the nonprofit\, nonpartisan Tennessee World Affairs Council is to promote international awareness\, understanding and connections to enhance the region’s global stature and to prepare Tennesseans to thrive in our increasingly complex and connected world. \nTHE VISION of  the Tennessee World Affairs Council is a well-informed community that thinks critically about the world and the impact of global events.
URL:https://www.tnwac.org/event/russias-invasion-of-ukraine-ambassador-john-kornblum-may-24/
CATEGORIES:Distinguished Speaker Series,Global Nashville,Webinar
ATTACH;FMTTYPE=image/png:https://www.tnwac.org/wp-content/uploads/2023/04/230524-Kornblum-FI2.png
END:VEVENT
END:VCALENDAR