BEGIN:VCALENDAR
VERSION:2.0
PRODID:-//Tennessee World Affairs Council - ECPv6.13.1//NONSGML v1.0//EN
CALSCALE:GREGORIAN
METHOD:PUBLISH
X-WR-CALNAME:Tennessee World Affairs Council
X-ORIGINAL-URL:https://www.tnwac.org
X-WR-CALDESC:Events for Tennessee World Affairs Council
REFRESH-INTERVAL;VALUE=DURATION:PT1H
X-Robots-Tag:noindex
X-PUBLISHED-TTL:PT1H
BEGIN:VTIMEZONE
TZID:America/Chicago
BEGIN:DAYLIGHT
TZOFFSETFROM:-0600
TZOFFSETTO:-0500
TZNAME:CDT
DTSTART:20260308T080000
END:DAYLIGHT
BEGIN:STANDARD
TZOFFSETFROM:-0500
TZOFFSETTO:-0600
TZNAME:CST
DTSTART:20261101T070000
END:STANDARD
END:VTIMEZONE
BEGIN:VEVENT
DTSTART;TZID=America/Chicago:20260423T160000
DTEND;TZID=America/Chicago:20260423T180000
DTSTAMP:20260423T062250
CREATED:20260316T023838Z
LAST-MODIFIED:20260403T171205Z
UID:47468-1776960000-1776967200@www.tnwac.org
SUMMARY:Beyond the Alps – Liechtenstein’s Economic Impact\, Global Ties and US Partnerships
DESCRIPTION:  \n  \n \n \nLiechtenstein companies play vital roles in the U.S. domestic economy. They are market leaders in their respective sectors\, such as automotive\, construction\, dental\, audio-visual\, and more. As Liechtenstein seeks to increase its U.S. economic footprint\, one area of focus is establishing apprenticeship and vocational training programs. On the foreign policy front\, Liechtenstein\, a country with no army\, is engaged at the bilateral and multilateral levels to foster partnerships to address many of the world’s challenges. This includes working with the United States on economic security\, trade\, and other areas.Join Ambassador Sparber for an interactive conversation on Liechtenstein’s outlook as it seeks to further grow relations throughout the U.S. \nThursday\, April 23  I 11:00 am – 1:00 pm\n* Luncheon Event *\nVenue: \n \n501 Commerce St\, Nashville\, TN 37203 \n    \n    \n    \n        Register Now    \n    \n  \n\n  \nFeatured Speaker: Ambassador Georg Sparber (Ambassador of the Principality of Liechtenstein to the United States)\n \nGeorg Sparber\, Ambassador of the Principality of Liechtenstein to the United States\, has been in Washington since 2021. Prior\, he worked as Liechtenstein’s Deputy Chief of Mission at the United Nations and in Vienna. He will discuss Liechtenstein’s key interests in the United States as it seeks to build political and economic partnerships in Washington\, as well as at the state and local levels. \n  \n  \n  \n 
URL:https://www.tnwac.org/event/beyond-the-alps/
LOCATION:AllianceBernstein\, 501 Commerce St\, Nashville\, TN\, 37203\, United States
CATEGORIES:Distinguished Speaker Series
ATTACH;FMTTYPE=image/png:https://www.tnwac.org/wp-content/uploads/2026/03/TNWAC-4-23-2026-Horizontal.png
END:VEVENT
END:VCALENDAR