BEGIN:VCALENDAR
VERSION:2.0
PRODID:-//Tennessee World Affairs Council - ECPv6.13.1//NONSGML v1.0//EN
CALSCALE:GREGORIAN
METHOD:PUBLISH
X-WR-CALNAME:Tennessee World Affairs Council
X-ORIGINAL-URL:https://www.tnwac.org
X-WR-CALDESC:Events for Tennessee World Affairs Council
REFRESH-INTERVAL;VALUE=DURATION:PT1H
X-Robots-Tag:noindex
X-PUBLISHED-TTL:PT1H
BEGIN:VTIMEZONE
TZID:America/Chicago
BEGIN:DAYLIGHT
TZOFFSETFROM:-0600
TZOFFSETTO:-0500
TZNAME:CDT
DTSTART:20210314T080000
END:DAYLIGHT
BEGIN:STANDARD
TZOFFSETFROM:-0500
TZOFFSETTO:-0600
TZNAME:CST
DTSTART:20211107T070000
END:STANDARD
END:VTIMEZONE
BEGIN:VEVENT
DTSTART;TZID=America/Chicago:20210422T140000
DTEND;TZID=America/Chicago:20210422T200000
DTSTAMP:20260422T033457
CREATED:20210410T215514Z
LAST-MODIFIED:20250218T183618Z
UID:27928-1619100000-1619121600@www.tnwac.org
SUMMARY:Special Colloquium | Iran: From the Inside Out | Apr 22
DESCRIPTION:The Tennessee World Affairs Council is pleased to offer this important global affairs awareness program produced by the International Relations Council\, Kansas City\, a sister organization in the network of World Affairs Councils of America.  \nWe extend special thanks to friends at IRC KC for including TNWAC in this world-class presentation.  \nIran From the Inside Out\n\nThursday\, April 22\, 2021\n9:00 am – 3:00 pm CT\nJoin this special event for a discussion of this important global issue. \n \nThe timing of this colloquium is intentional – the US is at a critical juncture. The new Biden administration has rare bipartisan support from Congress – support for a fresh policy that reinstates limits on Iran’s nuclear program\, curtails its ballistic missile program\, and addresses its malign behavior throughout the Middle East – all this coinciding with upcoming presidential elections in the Islamic Republic. \nParticipants include:\n\n\n\nRobin Wright\, USIP – Wilson Center\nHossein Mousavian\, Princeton University\nChris Hoch\, ODNI\nEbtesam Al-Ketbi\, Emirates Policy Center\nBilal Saab\, Middle East Institute\nMartin Indyk\, Council of Foreign Relations\nJon Alterman\, CSIS\nLucille Greer\, Wilson Center\nMark Katz\, George Mason\nFathollah-Nejad\, Brookings Institute\nAlex Vatanka\, Middle East Initiative\nSusan Maloney\, Council of Foreign Relations\nVali Nasr\, Johns Hopkins SAIS\nBarbara Slavin\, Atlantic Council\n\n“Red teaming” is an analytic tool born from past failures to challenge assumptions\, ignore disconfirming evidence\, and disregard alternative perspectives. The resultant red team framework stress-tests strategies and mitigates group think by examining problem sets from myriad perspectives. \nThe goal of Red Teaming Iran: From the Inside Out is to “stress-test” participants’ thinking of the Iranian security challenge by examining it from the eyes of myriad perspectives: the Iranian perspective\, the Middle East perspective\, the P5+1 perspective\, and finally – how these perspective might inform the US perspective. ​ \nFormat: Virtual \n\n\n\n\nProgram Schedule\n9-9:15 a.m. CT: Introduction: Chris Hoch\, National Intelligence Officer for Iran\, ODNI \n9:15-10:15 a.m. CT: Keynote Discussion: The Iranian perspective \n\nHow Does Iran View Itself? (15 minutes) Robin Wright\, USIP – Wilson Center\nHow Does Iran View Its Neighbors? (15 minutes) Hossein Mousavian\, Princeton University\nModerated Q&A (30 minutes) Chris Hoch\, ODNI\n\n10:15 a.m.-11:45 a.m. CT: Panel 1: Middle East perspective: GCC & Israel \n\nHow Do the GCC View Iran? Ebtesam Al-Ketbi\, Emirates Policy Center\nHow Do the GCC View Iran – An Alternative View? Bilal Saab\, Middle East Institute\nThe Israeli Variable. Martin Indyk\, Council of Foreign Relations \nModerated Q&A Jon Alterman\, Jon Alterman\, CSIS\n\n11:45-12:30 p.m. CT: Lunch break: Student Undergraduate Research presentation \n12:30-2 p.m. CT: P5+1 Perspective: China\, Russia & EU members \n\nChina & Iran. Lucille Greer\, Wilson Center\nRussian & Iran. Mark Katz\, George Mason\nThe EU & Iran. Fathollah-Nejad\, Brookings Institute\nModerated Q&A – Alex Vatanka\, Middle East Initiative\n\n2-3 p.m. CT: Keynote Discussion: Implications to US Strategy & Policy \n\nImplications to the Biden Administration – A Hawkish Perspective\, Susan Maloney\, Council of Foreign Relations\nImplications to the Biden Administration – an Alternative Perspective\, Vali Nasr\, Johns Hopkins SAIS\nModerated Q&A (30 minutes). Barbara Slavin\, Atlantic Council\n\n \n\n\n\nTHANKS TO OUR PARTNERS IN GLOBAL AFFAIRS AWARENESS AND EDUCATION OUTREACH \n \n \nTHE MISSION of the nonprofit\, nonpartisan Tennessee World Affairs Council is to promote international awareness\, understanding and connections to enhance the region’s global stature and to prepare Tennesseans to thrive in our increasingly complex and connected world. \nTHE VISION of  the Tennessee World Affairs Council is a well-informed community that thinks critically about the world and the impact of global events.
URL:https://www.tnwac.org/event/colloquium-iran-from-the-inside-out-apr-22/
CATEGORIES:Distinguished Speaker Series
ATTACH;FMTTYPE=image/jpeg:https://www.tnwac.org/wp-content/uploads/2021/04/210422-IRC-Iran-Slide.jpg
END:VEVENT
END:VCALENDAR