BEGIN:VCALENDAR
VERSION:2.0
PRODID:-//Tennessee World Affairs Council - ECPv6.13.1//NONSGML v1.0//EN
CALSCALE:GREGORIAN
METHOD:PUBLISH
X-WR-CALNAME:Tennessee World Affairs Council
X-ORIGINAL-URL:https://www.tnwac.org
X-WR-CALDESC:Events for Tennessee World Affairs Council
REFRESH-INTERVAL;VALUE=DURATION:PT1H
X-Robots-Tag:noindex
X-PUBLISHED-TTL:PT1H
BEGIN:VTIMEZONE
TZID:America/Chicago
BEGIN:DAYLIGHT
TZOFFSETFROM:-0600
TZOFFSETTO:-0500
TZNAME:CDT
DTSTART:20230312T080000
END:DAYLIGHT
BEGIN:STANDARD
TZOFFSETFROM:-0500
TZOFFSETTO:-0600
TZNAME:CST
DTSTART:20231105T070000
END:STANDARD
END:VTIMEZONE
BEGIN:VEVENT
DTSTART;TZID=America/Chicago:20230412T163000
DTEND;TZID=America/Chicago:20230412T180000
DTSTAMP:20260422T165415
CREATED:20221122T185253Z
LAST-MODIFIED:20250218T175827Z
UID:32245-1681317000-1681322400@www.tnwac.org
SUMMARY:International Careers Panel | April 12
DESCRIPTION:Thank you for your support to make our work possible. \nRegister Now\n \nInternational Career Panel\nSpring 2023\n  \nTNWAC hosts a seminar featuring professionals from a variety of occupations to discuss their career paths\, experiences and ups and downs of working in international jobs. \n  \nVia Zoom \nApril 12\, 2023 @ 11:30am-1:00pm CT \n  \nRegister Now \n  \nModerator \n \nDr. Gretchen Neisler \nUniversity of Tennessee Vice Provost for International Affairs\, Director\, Center for Global Engagement; Member of Board of Directors\, Tennessee World Affairs Council \nPanelists \n \nTerrance Fluker – U.S. Peace Corps\, Tennessee Regional Recruiter \nSaúl Hernández – U.S. State Dept. Foreign Service Officer and Southeast Diplomat in Residence \nSabrina Miller – SVP\, Pinnacle Financial Partners\, former Foreign Exchange Manager \nRachel Bowen Pittman – Executive Director\, United Nations Association\, USA \n  \nRegister Now \n  \nGretchen Neisler | Moderator \nGretchen Neisler\, Vice Provost for International Affairs at the University of Tennessee\, works with faculty\, staff\, students and key stakeholders to understand and deepen their engagement as global citizens. Dr. Neisler has successfully managed over $120 million in grant funding to support the work of international research and development. Gretchen believes higher education must support students in understanding their role as global citizens and use the institutional strength of knowledge creation to solve global challenges the world faces. Additionally\, she feels the role of higher education in a community is to understand its societal needs and work collaboratively to meet those needs. Gretchen has worked for 20 years to build global networks that enhance research productivity and preparing a new generation of leaders to take the world’s stage by understanding that problems span geographic boundaries. Her passion is derived from the belief that science has the power to positively impact society and higher education is vital to sharing this knowledge with community stakeholders. Gretchen is an experienced leader with strengths in organizational change and team development. She holds a PhD. in higher education administration from Michigan State University. \nTerrance Fluker \nTerrance Fluker became the Tennessee Regional Recruiter for the Peace Corps in December 2022.  He has a M.S. in Media Management from Arkansas State University and brings a media background of over 30 years in radio management and programming to the position.  Terrance believes in the basic tenets of the Peace Corps and works to build its profile and awareness of the amazing opportunities the Corps has to offer to residents of Tennessee.  Fluker and his wife Kimberly have been married for 27 years and reside in Nashville. \nSaúl Hernández \nSaúl Hernández is a career Foreign Service Officer with over eighteen years of experience at the U.S. Department of State. He is the Diplomat in Residence for the Southern region\, recruiting diverse talent for career and student program opportunities with the U.S. Department of State. \nSaúl was previously the Director for the Outreach and Communications Unit and the Public Diplomacy Incubator Unit in the Office of Policy\, Planning\, and Resources for the Under Secretary for Public Diplomacy and Public Affairs. He led a team that engages with Congress to advocate for public diplomacy resources for the Department\, develops communications strategies for our 4\,000 public diplomacy practitioners worldwide\, and manages digital outreach to the 700\,000 members of the Young African Leaders Initiative Network and the Young Leaders of the Americas Initiative Network. \nSaúl’s other Department of State assignments include Lima\, Peru\, where he served as the Press Officer; Washington\, DC\, where he served as the Digital Media Advisor for the Bureau of Western Hemisphere Affairs and as a Media Relations Officer for the Washington Foreign Press Center; Tbilisi\, Georgia\, where he served as the Cultural Affairs Officer; and Prague\, Czech Republic\, and Bogotá\, Colombia\, where he served as a Consular Officer. \nSaúl earned a Bachelor of Science degree from the Massachusetts Institute of Technology. Before joining the Department of State\, he worked as an information technology consultant and software developer in the Atlanta area. \nSabrina Miller \nSabrina Miller is a senior vice president with Pinnacle’s commercial banking team in Nashville\, TN\, responsible for providing distinctive service and effective advice to business and private banking clients. Before joining the firm in 2022\, Miller was a senior vice president with the Truist Commercial Banking division in Nashville\, where she worked for nearly ten years focusing on for-profit and not-for-profit clients. Prior to relocating to Nashville from New York\, she spent eight years on Wall Street focusing on foreign exchange markets and was a relationship manager\, foreign exchange specialist at Bloomberg L.P. \nSabrina earned her bachelor’s degree with cum laude honor at the University of Mississippi with a double major in banking & finance and international business. \nSabrina services on the board of directors and finance committee for The Martha O’Bryan Center and is past board treasurer. She is a Class 63 alumna of the Young Leaders Council. Originally from Brazil\, Sabrina moved to the United States at age 17 when she was recruited by The University of Mississippi on an NCAA division 1 tennis scholarship and became a naturalized citizen in December of 2013. \nSabrina is a Member of the Tennessee World Affairs Council Board of Directors. \nRachel Bowen Pittman \nThroughout her career\, Rachel Bowen Pittman has been committed to the idea that individuals\, when brought together and motivated around a common vision\, can be strong catalysts for change toward a brighter\, more just\, and more sustainable future. \nAs Executive Director of UNA-USA\, Rachel leads a grassroots advocacy movement of more than 20\,000 Americans in 225+ chapters who are dedicated to supporting the work of the United Nations in their communities\, on campuses\, and on Capitol Hill. She guides the UNA-USA’s strategic work and key partnerships\, directs the UNA-USA Fellowship Program\, oversees membership expansion\, and spearheads important advocacy initiatives to help the United States advance the far-reaching goals of the United Nations. Rachel has been with the UNA-USA—a component of the United Nations Foundation—for more than seven years. Previously as Senior Director of Membership and Programs\, she managed the UNA-USA’s national programs and events\, including the annual Global Engagement Summit at UN Headquarters\, Global Leadership Summit in Washington\, D.C.\, and UN Day events across the United States. She also led a successful nationwide fundraising campaign to provide education to youth in refugee camps around the world. \nPreviously\, Rachel served on the leadership teams of several professional associations representing lawyers\, surgeons\, regulators\, and engineers. In those positions\, she strengthened membership programs\, directed rebranding initiatives\, and secured agreements with national associations representing China\, Korea\, Argentina\, India\, Peru\, Egypt\, and Mexico. Rachel holds a B.S.B.A in international business from American University and an MBA in marketing from Johns Hopkins University. She lives in the Washington\, D.C. metro area. \n \n\nTHANKS TO TNWAC CORPORATE MEMBERS FOR SUPPORT TO EDUCATION OUTREACH PROGRAMS \n \nTHANKS TO OUR PARTNERS IN GLOBAL AFFAIRS AWARENESS AND EDUCATION OUTREACH \n \n \nTHE TENNESSEE WORLD AFFAIRS COUNCIL HAS BEEN A PROUD MEMBER OF THE WORLD AFFAIRS COUNCILS OF AMERICA SINCE 2007 \n \nTHANKS TO OUR PROGRAM PARTNERS IN GLOBAL AFFAIRS AWARENESS AND EDUCATION OUTREACH \n \n \n \nTHANKS TO OUR PARTNERS IN GLOBAL AFFAIRS AWARENESS AND EDUCATION OUTREACH \nTennessee World Affairs Council Profile | Community Foundation of Middle Tennessee \nMember\, Center for Nonprofit Management\n \nTHE MISSION of the nonprofit\, nonpartisan Tennessee World Affairs Council is to promote international awareness\, understanding and connections to enhance the region’s global stature and to prepare Tennesseans to thrive in our increasingly complex and connected world. \nTHE VISION of  the Tennessee World Affairs Council is a well-informed community that thinks critically about the world and the impact of global events.
URL:https://www.tnwac.org/event/2023-international-careers-panel/
CATEGORIES:Distinguished Speaker Series
ATTACH;FMTTYPE=image/jpeg:https://www.tnwac.org/wp-content/uploads/2022/11/2023-04-12-career-1.jpg
END:VEVENT
END:VCALENDAR